Package: qsvaR Version: 1.13.3 Command: /Library/Frameworks/R.framework/Resources/bin/R CMD INSTALL qsvaR StartedAt: 2025-10-27 15:12:26 -0400 (Mon, 27 Oct 2025) EndedAt: 2025-10-27 15:12:38 -0400 (Mon, 27 Oct 2025) EllapsedTime: 12.7 seconds RetCode: 0 Status: OK