Package: qsvaR Version: 1.13.3 Command: /Library/Frameworks/R.framework/Resources/bin/R CMD build --keep-empty-dirs --no-resave-data qsvaR StartedAt: 2025-10-28 17:24:46 -0400 (Tue, 28 Oct 2025) EndedAt: 2025-10-28 17:28:16 -0400 (Tue, 28 Oct 2025) EllapsedTime: 210.5 seconds RetCode: 0 Status: OK PackageFile: qsvaR_1.13.3.tar.gz PackageFileSize: 3.384 MiB