Package: qsvaR Version: 1.13.3 Command: rm -rf qsvaR.buildbin-libdir && mkdir qsvaR.buildbin-libdir && /Users/biocbuild/BBS/utils/build-universal.sh qsvaR_1.13.3.tar.gz /Library/Frameworks/R.framework/Resources/bin/R qsvaR.buildbin-libdir StartedAt: 2025-10-27 23:14:38 -0400 (Mon, 27 Oct 2025) EndedAt: 2025-10-27 23:14:51 -0400 (Mon, 27 Oct 2025) EllapsedTime: 13.3 seconds RetCode: 0 Status: OK PackageFile: qsvaR_1.13.3.tgz PackageFileSize: 3.834 MiB