Package: qsmooth Version: 1.27.0 Command: /home/biocbuild/bbs-3.23-bioc/R/bin/R CMD INSTALL qsmooth StartedAt: 2025-11-20 15:28:41 -0500 (Thu, 20 Nov 2025) EndedAt: 2025-11-20 15:29:17 -0500 (Thu, 20 Nov 2025) EllapsedTime: 36.8 seconds RetCode: 0 Status: OK