Package: qsmooth Version: 1.25.0 Command: /Library/Frameworks/R.framework/Resources/bin/R CMD build --keep-empty-dirs --no-resave-data qsmooth StartedAt: 2025-10-13 18:53:58 -0400 (Mon, 13 Oct 2025) EndedAt: 2025-10-13 18:55:31 -0400 (Mon, 13 Oct 2025) EllapsedTime: 93.0 seconds RetCode: 0 Status: OK PackageFile: qsmooth_1.25.0.tar.gz PackageFileSize: 1.3 MiB