Package: qsmooth Version: 1.25.0 Command: rm -rf qsmooth.buildbin-libdir && mkdir qsmooth.buildbin-libdir && /Users/biocbuild/BBS/utils/build-universal.sh qsmooth_1.25.0.tar.gz /Library/Frameworks/R.framework/Resources/bin/R qsmooth.buildbin-libdir StartedAt: 2025-10-14 03:01:30 -0400 (Tue, 14 Oct 2025) EndedAt: 2025-10-14 03:02:19 -0400 (Tue, 14 Oct 2025) EllapsedTime: 48.7 seconds RetCode: 0 Status: OK PackageFile: qsmooth_1.25.0.tgz PackageFileSize: 1.471 MiB