Package: qsmooth Version: 1.25.0 Command: /Library/Frameworks/R.framework/Resources/bin/R CMD INSTALL qsmooth StartedAt: 2025-09-29 15:11:50 -0400 (Mon, 29 Sep 2025) EndedAt: 2025-09-29 15:12:04 -0400 (Mon, 29 Sep 2025) EllapsedTime: 13.4 seconds RetCode: 0 Status: OK