Package: qsmooth Version: 1.25.0 Command: /Library/Frameworks/R.framework/Resources/bin/R CMD build --keep-empty-dirs --no-resave-data qsmooth StartedAt: 2025-09-30 17:28:36 -0400 (Tue, 30 Sep 2025) EndedAt: 2025-09-30 17:29:04 -0400 (Tue, 30 Sep 2025) EllapsedTime: 28.3 seconds RetCode: 0 Status: OK PackageFile: qsmooth_1.25.0.tar.gz PackageFileSize: 1.3 MiB