Package: qsmooth Version: 1.25.0 Command: rm -rf qsmooth.buildbin-libdir && mkdir qsmooth.buildbin-libdir && /Users/biocbuild/BBS/utils/build-universal.sh qsmooth_1.25.0.tar.gz /Library/Frameworks/R.framework/Resources/bin/R qsmooth.buildbin-libdir StartedAt: 2025-09-29 22:47:26 -0400 (Mon, 29 Sep 2025) EndedAt: 2025-09-29 22:47:40 -0400 (Mon, 29 Sep 2025) EllapsedTime: 14.3 seconds RetCode: 0 Status: OK PackageFile: qsmooth_1.25.0.tgz PackageFileSize: 1.471 MiB