Package: qsmooth Version: 1.25.0 Maintainer: Stephanie C. Hicks MaintainerEmail: shicks19 at jhu.edu git_url: https://git.bioconductor.org/packages/qsmooth git_branch: devel git_last_commit: d1867f1 git_last_commit_date: 2025-04-15 11:42:33 -0400 (Tue, 15 Apr 2025)