Package: qsea Version: 1.37.0 Command: /home/biocbuild/bbs-3.23-bioc/R/bin/R CMD INSTALL qsea StartedAt: 2025-11-21 15:29:00 -0500 (Fri, 21 Nov 2025) EndedAt: 2025-11-21 15:29:33 -0500 (Fri, 21 Nov 2025) EllapsedTime: 32.4 seconds RetCode: 0 Status: OK