Package: qsea Version: 1.37.0 Command: /home/biocbuild/bbs-3.23-bioc/R/bin/R CMD build --keep-empty-dirs --no-resave-data qsea StartedAt: 2025-11-21 19:27:34 -0500 (Fri, 21 Nov 2025) EndedAt: 2025-11-21 19:28:45 -0500 (Fri, 21 Nov 2025) EllapsedTime: 71.1 seconds RetCode: 0 Status: OK PackageFile: qsea_1.37.0.tar.gz PackageFileSize: 859.5 KiB