Package: qpgraph Version: 2.43.1 Command: /home/biocbuild/R/R/bin/R CMD INSTALL qpgraph StartedAt: 2025-10-13 21:28:00 -0000 (Mon, 13 Oct 2025) EndedAt: 2025-10-13 21:29:07 -0000 (Mon, 13 Oct 2025) EllapsedTime: 67.4 seconds RetCode: 0 Status: OK