Package: qpgraph Version: 2.43.1 Command: /home/biocbuild/R/R/bin/R CMD build --keep-empty-dirs --no-resave-data qpgraph StartedAt: 2025-10-14 02:45:17 -0000 (Tue, 14 Oct 2025) EndedAt: 2025-10-14 02:50:24 -0000 (Tue, 14 Oct 2025) EllapsedTime: 307.2 seconds RetCode: 0 Status: OK PackageFile: qpgraph_2.43.1.tar.gz PackageFileSize: 2.666 MiB