Package: qpgraph Version: 2.43.1 Command: /home/biocbuild/bbs-3.22-bioc/R/bin/R CMD check --install=check:qpgraph.install-out.txt --library=/home/biocbuild/bbs-3.22-bioc/R/site-library --timings qpgraph_2.43.1.tar.gz StartedAt: 2025-10-11 03:25:17 -0400 (Sat, 11 Oct 2025) EndedAt: 2025-10-11 03:31:41 -0400 (Sat, 11 Oct 2025) EllapsedTime: 383.5 seconds RetCode: 0 Status: OK CheckDir: qpgraph.Rcheck Warnings: 0