Package: qpgraph Version: 2.45.0 Command: /home/biocbuild/bbs-3.23-bioc/R/bin/R CMD INSTALL qpgraph StartedAt: 2025-11-04 15:41:35 -0500 (Tue, 04 Nov 2025) EndedAt: 2025-11-04 15:42:28 -0500 (Tue, 04 Nov 2025) EllapsedTime: 52.8 seconds RetCode: 0 Status: OK