Package: qpgraph Version: 2.45.0 Command: /home/biocbuild/bbs-3.23-bioc/R/bin/R CMD check --install=check:qpgraph.install-out.txt --library=/home/biocbuild/bbs-3.23-bioc/R/site-library --timings qpgraph_2.45.0.tar.gz StartedAt: 2025-11-20 02:56:27 -0500 (Thu, 20 Nov 2025) EndedAt: 2025-11-20 03:02:54 -0500 (Thu, 20 Nov 2025) EllapsedTime: 386.6 seconds RetCode: 0 Status: OK CheckDir: qpgraph.Rcheck Warnings: 0