Package: qpcrNorm Version: 1.69.0 Command: /home/biocbuild/bbs-3.23-bioc/R/bin/R CMD INSTALL qpcrNorm StartedAt: 2025-11-20 15:12:40 -0500 (Thu, 20 Nov 2025) EndedAt: 2025-11-20 15:12:46 -0500 (Thu, 20 Nov 2025) EllapsedTime: 6.3 seconds RetCode: 0 Status: OK