Package: qpcrNorm Version: 1.69.0 Command: /Library/Frameworks/R.framework/Resources/bin/R CMD INSTALL qpcrNorm StartedAt: 2025-11-21 15:19:40 -0500 (Fri, 21 Nov 2025) EndedAt: 2025-11-21 15:19:51 -0500 (Fri, 21 Nov 2025) EllapsedTime: 11.4 seconds RetCode: 0 Status: OK