Package: qpcrNorm Version: 1.69.0 Command: /Library/Frameworks/R.framework/Resources/bin/R CMD build --keep-empty-dirs --no-resave-data qpcrNorm StartedAt: 2025-11-21 18:17:02 -0500 (Fri, 21 Nov 2025) EndedAt: 2025-11-21 18:17:16 -0500 (Fri, 21 Nov 2025) EllapsedTime: 13.7 seconds RetCode: 0 Status: OK PackageFile: qpcrNorm_1.69.0.tar.gz PackageFileSize: 549.1 KiB