Package: qpcrNorm Version: 1.68.0 Command: /Library/Frameworks/R.framework/Resources/bin/R CMD INSTALL qpcrNorm StartedAt: 2025-10-29 21:29:07 -0400 (Wed, 29 Oct 2025) EndedAt: 2025-10-29 21:29:10 -0400 (Wed, 29 Oct 2025) EllapsedTime: 3.2 seconds RetCode: 0 Status: OK