Package: qpcrNorm Version: 1.68.0 Command: /Library/Frameworks/R.framework/Resources/bin/R CMD build --keep-empty-dirs --no-resave-data qpcrNorm StartedAt: 2025-10-29 23:50:53 -0400 (Wed, 29 Oct 2025) EndedAt: 2025-10-29 23:50:59 -0400 (Wed, 29 Oct 2025) EllapsedTime: 6.1 seconds RetCode: 0 Status: OK PackageFile: qpcrNorm_1.68.0.tar.gz PackageFileSize: 549.4 KiB