Package: qmtools Version: 1.13.0 Command: /home/biocbuild/R/R/bin/R CMD INSTALL qmtools StartedAt: 2025-10-16 21:31:07 -0000 (Thu, 16 Oct 2025) EndedAt: 2025-10-16 21:31:40 -0000 (Thu, 16 Oct 2025) EllapsedTime: 33.0 seconds RetCode: 0 Status: OK