Package: qmtools Version: 1.13.0 Command: /home/biocbuild/R/R/bin/R CMD build --keep-empty-dirs --no-resave-data qmtools StartedAt: 2025-10-17 03:44:47 -0000 (Fri, 17 Oct 2025) EndedAt: 2025-10-17 03:45:55 -0000 (Fri, 17 Oct 2025) EllapsedTime: 68.0 seconds RetCode: 0 Status: OK PackageFile: qmtools_1.13.0.tar.gz PackageFileSize: 880.1 KiB