Package: qmtools Version: 1.13.0 Command: /home/biocbuild/bbs-3.22-bioc/R/bin/R CMD check --install=check:qmtools.install-out.txt --library=/home/biocbuild/bbs-3.22-bioc/R/site-library --timings qmtools_1.13.0.tar.gz StartedAt: 2025-10-09 03:39:50 -0400 (Thu, 09 Oct 2025) EndedAt: 2025-10-09 03:43:45 -0400 (Thu, 09 Oct 2025) EllapsedTime: 235.2 seconds RetCode: 0 Status: OK CheckDir: qmtools.Rcheck Warnings: 0