Package: qmtools Version: 1.15.0 Command: /home/biocbuild/bbs-3.23-bioc/R/bin/R CMD check --install=check:qmtools.install-out.txt --library=/home/biocbuild/bbs-3.23-bioc/R/site-library --timings qmtools_1.15.0.tar.gz StartedAt: 2025-11-22 02:54:59 -0500 (Sat, 22 Nov 2025) EndedAt: 2025-11-22 02:58:56 -0500 (Sat, 22 Nov 2025) EllapsedTime: 237.3 seconds RetCode: 0 Status: OK CheckDir: qmtools.Rcheck Warnings: 0