Package: qcmetrics Version: 1.47.0 Command: /home/biocbuild/R/R/bin/R CMD build --keep-empty-dirs --no-resave-data qcmetrics StartedAt: 2025-10-21 02:13:09 -0000 (Tue, 21 Oct 2025) EndedAt: 2025-10-21 02:13:53 -0000 (Tue, 21 Oct 2025) EllapsedTime: 44.0 seconds RetCode: 0 Status: OK PackageFile: qcmetrics_1.47.0.tar.gz PackageFileSize: 4.279 MiB