Package: qcmetrics Version: 1.47.0 Command: /Library/Frameworks/R.framework/Resources/bin/R CMD build --keep-empty-dirs --no-resave-data qcmetrics StartedAt: 2025-10-12 18:44:27 -0400 (Sun, 12 Oct 2025) EndedAt: 2025-10-12 18:45:15 -0400 (Sun, 12 Oct 2025) EllapsedTime: 48.1 seconds RetCode: 0 Status: OK PackageFile: qcmetrics_1.47.0.tar.gz PackageFileSize: 4.217 MiB