Package: qcmetrics Version: 1.47.0 Command: rm -rf qcmetrics.buildbin-libdir && mkdir qcmetrics.buildbin-libdir && /Users/biocbuild/BBS/utils/build-universal.sh qcmetrics_1.47.0.tar.gz /Library/Frameworks/R.framework/Resources/bin/R qcmetrics.buildbin-libdir StartedAt: 2025-10-13 02:50:04 -0400 (Mon, 13 Oct 2025) EndedAt: 2025-10-13 02:50:18 -0400 (Mon, 13 Oct 2025) EllapsedTime: 14.0 seconds RetCode: 0 Status: OK PackageFile: qcmetrics_1.47.0.tgz PackageFileSize: 4.073 MiB