Package: qcmetrics Version: 1.49.0 Maintainer: Laurent Gatto MaintainerEmail: laurent.gatto at uclouvain.be git_url: https://git.bioconductor.org/packages/qcmetrics git_branch: devel git_last_commit: c0694fe git_last_commit_date: 2025-10-29 10:16:56 -0400 (Wed, 29 Oct 2025)