Package: qckitfastq Version: 1.25.1 Command: /home/biocbuild/bbs-3.23-bioc/R/bin/R CMD INSTALL qckitfastq StartedAt: 2025-10-22 21:57:29 -0000 (Wed, 22 Oct 2025) EndedAt: 2025-10-22 21:57:29 -0000 (Wed, 22 Oct 2025) EllapsedTime: 0.2 seconds RetCode: 1 Status: ERROR