Package: qckitfastq Version: 1.25.1 Command: /home/biocbuild/bbs-3.23-bioc/R/bin/R CMD build --keep-empty-dirs --no-resave-data qckitfastq StartedAt: 2025-10-23 00:05:52 -0000 (Thu, 23 Oct 2025) EndedAt: 2025-10-23 00:05:53 -0000 (Thu, 23 Oct 2025) EllapsedTime: 1.0 seconds RetCode: 1 Status: ERROR PackageFile: None PackageFileSize: NA