############################################################################## ############################################################################## ### ### Running command: ### ### /home/biocbuild/bbs-3.23-bioc/R/bin/R CMD build --keep-empty-dirs --no-resave-data qckitfastq ### ############################################################################## ############################################################################## * checking for file ‘qckitfastq/DESCRIPTION’ ... OK * preparing ‘qckitfastq’: * checking DESCRIPTION meta-information ... OK * cleaning src * installing the package (it is needed to build vignettes) ----------------------------------- ERROR: dependencies ‘seqTools’, ‘zlibbioc’ are not available for package ‘qckitfastq’ Perhaps try a variation of: install.packages(c('seqTools', 'zlibbioc')) * removing ‘/tmp/RtmpGZN060/Rinst16fd06659a5dc3/qckitfastq’ ----------------------------------- ERROR: package installation failed