Package: qckitfastq Version: 1.25.1 Command: /Library/Frameworks/R.framework/Resources/bin/R CMD INSTALL qckitfastq StartedAt: 2025-10-10 16:02:49 -0400 (Fri, 10 Oct 2025) EndedAt: 2025-10-10 16:02:49 -0400 (Fri, 10 Oct 2025) EllapsedTime: 0.3 seconds RetCode: 1 Status: ERROR