Package: qckitfastq Version: 1.25.1 Command: /Library/Frameworks/R.framework/Resources/bin/R CMD build --keep-empty-dirs --no-resave-data qckitfastq StartedAt: 2025-10-10 18:46:10 -0400 (Fri, 10 Oct 2025) EndedAt: 2025-10-10 18:46:13 -0400 (Fri, 10 Oct 2025) EllapsedTime: 2.3 seconds RetCode: 1 Status: ERROR PackageFile: None PackageFileSize: NA