############################################################################## ############################################################################## ### ### Running command: ### ### /Library/Frameworks/R.framework/Resources/bin/R CMD build --keep-empty-dirs --no-resave-data qckitfastq ### ############################################################################## ############################################################################## * checking for file ‘qckitfastq/DESCRIPTION’ ... OK * preparing ‘qckitfastq’: * checking DESCRIPTION meta-information ... OK * cleaning src * installing the package to build vignettes ----------------------------------- ERROR: dependencies ‘seqTools’, ‘zlibbioc’ are not available for package ‘qckitfastq’ Perhaps try a variation of: install.packages(c('seqTools', 'zlibbioc')) * removing ‘/private/var/folders/r0/l4fjk6cj5xj0j3brt4bplpl40000gt/T/RtmpXyZcGY/Rinstf331639537e0/qckitfastq’ ----------------------------------- ERROR: package installation failed