Package: qckitfastq Version: 1.25.1 Maintainer: August Guang MaintainerEmail: august.guang at gmail.com git_url: https://git.bioconductor.org/packages/qckitfastq git_branch: devel git_last_commit: 6157afc git_last_commit_date: 2025-07-07 12:54:41 -0400 (Mon, 07 Jul 2025)