Package: qPLEXanalyzer Version: 1.27.0 Command: /home/biocbuild/R/R/bin/R CMD INSTALL qPLEXanalyzer StartedAt: 2025-10-13 21:16:10 -0000 (Mon, 13 Oct 2025) EndedAt: 2025-10-13 21:16:59 -0000 (Mon, 13 Oct 2025) EllapsedTime: 49.2 seconds RetCode: 0 Status: OK