Package: qPLEXanalyzer Version: 1.29.0 Command: /home/biocbuild/bbs-3.23-bioc/R/bin/R CMD INSTALL qPLEXanalyzer StartedAt: 2025-11-04 15:35:55 -0500 (Tue, 04 Nov 2025) EndedAt: 2025-11-04 15:36:34 -0500 (Tue, 04 Nov 2025) EllapsedTime: 38.9 seconds RetCode: 0 Status: OK