Package: qPLEXanalyzer Version: 1.29.0 Command: /home/biocbuild/bbs-3.23-bioc/R/bin/R CMD build --keep-empty-dirs --no-resave-data qPLEXanalyzer StartedAt: 2025-11-04 19:20:48 -0500 (Tue, 04 Nov 2025) EndedAt: 2025-11-04 19:21:50 -0500 (Tue, 04 Nov 2025) EllapsedTime: 62.1 seconds RetCode: 1 Status: ERROR PackageFile: None PackageFileSize: NA