Package: pwalign Version: 1.5.0 Command: /home/biocbuild/R/R/bin/R CMD INSTALL pwalign StartedAt: 2025-10-13 21:37:12 -0000 (Mon, 13 Oct 2025) EndedAt: 2025-10-13 21:37:33 -0000 (Mon, 13 Oct 2025) EllapsedTime: 21.0 seconds RetCode: 0 Status: OK