Package: pwalign Version: 1.5.0 Command: /home/biocbuild/R/R/bin/R CMD build --keep-empty-dirs --no-resave-data pwalign StartedAt: 2025-10-14 02:44:13 -0000 (Tue, 14 Oct 2025) EndedAt: 2025-10-14 02:45:20 -0000 (Tue, 14 Oct 2025) EllapsedTime: 67.1 seconds RetCode: 0 Status: OK PackageFile: pwalign_1.5.0.tar.gz PackageFileSize: 339.4 KiB