Package: pwalign Version: 1.5.0 Command: /home/biocbuild/bbs-3.22-bioc/R/bin/R CMD check --install=check:pwalign.install-out.txt --library=/home/biocbuild/bbs-3.22-bioc/R/site-library --timings pwalign_1.5.0.tar.gz StartedAt: 2025-10-10 03:13:19 -0400 (Fri, 10 Oct 2025) EndedAt: 2025-10-10 03:15:35 -0400 (Fri, 10 Oct 2025) EllapsedTime: 136.1 seconds RetCode: 0 Status: OK CheckDir: pwalign.Rcheck Warnings: 0