Package: pwalign Version: 1.7.0 Command: /home/biocbuild/bbs-3.23-bioc/R/bin/R CMD INSTALL pwalign StartedAt: 2025-11-04 15:48:24 -0500 (Tue, 04 Nov 2025) EndedAt: 2025-11-04 15:48:38 -0500 (Tue, 04 Nov 2025) EllapsedTime: 14.9 seconds RetCode: 0 Status: OK