Package: pwalign Version: 1.7.0 Command: /home/biocbuild/bbs-3.23-bioc/R/bin/R CMD build --keep-empty-dirs --no-resave-data pwalign StartedAt: 2025-11-04 19:19:57 -0500 (Tue, 04 Nov 2025) EndedAt: 2025-11-04 19:20:53 -0500 (Tue, 04 Nov 2025) EllapsedTime: 56.1 seconds RetCode: 0 Status: OK PackageFile: pwalign_1.7.0.tar.gz PackageFileSize: 346.3 KiB