Back to Build/check report for BioC 3.23:   simplified   long
ABCDEFGHIJKLMNO[P]QRSTUVWXYZ

This page was generated on 2025-11-04 11:32 -0500 (Tue, 04 Nov 2025).

HostnameOSArch (*)R versionInstalled pkgs
nebbiolo1Linux (Ubuntu 24.04.3 LTS)x86_64R Under development (unstable) (2025-10-20 r88955) -- "Unsuffered Consequences" 4788
Click on any hostname to see more info about the system (e.g. compilers)      (*) as reported by 'uname -p', except on Windows and Mac OS X

All results for package pwalign


To the developers/maintainers of the pwalign package:
- Allow up to 24 hours (and sometimes 48 hours) for your latest push to git@git.bioconductor.org:packages/pwalign.git to reflect on this report. See Troubleshooting Build Report for more information.
- Use the following Renviron settings to reproduce errors and warnings.
- If 'R CMD check' started to fail recently on the Linux builder(s) over a missing dependency, add the missing dependency to 'Suggests:' in your DESCRIPTION file. See Renviron.bioc for more information.

raw results

Package 1646/2323HostnameOS / ArchINSTALLBUILDCHECKBUILD BIN
pwalign 1.7.0  (landing page)
Hervé Pagès
Snapshot Date: 2025-11-03 13:40 -0500 (Mon, 03 Nov 2025)
git_url: https://git.bioconductor.org/packages/pwalign
git_branch: devel
git_last_commit: a8e536a
git_last_commit_date: 2025-10-29 14:46:16 -0500 (Wed, 29 Oct 2025)
nebbiolo1Linux (Ubuntu 24.04.3 LTS) / x86_64  OK    OK    OK  UNNEEDED, same version is already published



Results for Bioconductor software packages that depend directly on package pwalign

QUICK STATSOS / ArchINSTALLBUILDCHECKBUILD BIN
nebbiolo1Linux (Ubuntu 24.04.3 LTS) / x86_64
0521
0719
00217
Package 1/26HostnameOS / ArchINSTALLBUILDCHECKBUILD BIN
amplican 1.33.0  (landing page)
Eivind Valen
git_last_commit: 244fde2
git_last_commit_date: 2025-10-29 10:40:44 -0500
nebbiolo1Linux (Ubuntu 24.04.3 LTS) / x86_64  ERROR    ERROR  skipped
Package 2/26HostnameOS / ArchINSTALLBUILDCHECKBUILD BIN
ChIPpeakAnno 3.45.0  (landing page)
Jianhong Ou
git_last_commit: 2e00e23
git_last_commit_date: 2025-10-29 10:03:18 -0500
nebbiolo1Linux (Ubuntu 24.04.3 LTS) / x86_64  ERROR    ERROR  skipped
Package 3/26HostnameOS / ArchINSTALLBUILDCHECKBUILD BIN
CNEr 1.47.0  (landing page)
Boris Lenhard Damir Baranasic
git_last_commit: 4d7f8ce
git_last_commit_date: 2025-10-29 10:18:00 -0500
nebbiolo1Linux (Ubuntu 24.04.3 LTS) / x86_64  OK    OK    WARNINGS  NO, package depends on 'rtracklayer' which is not available
Package 4/26HostnameOS / ArchINSTALLBUILDCHECKBUILD BIN
crisprShiny 1.7.0  (landing page)
Jean-Philippe Fortin
git_last_commit: e4da799
git_last_commit_date: 2025-10-29 11:28:01 -0500
nebbiolo1Linux (Ubuntu 24.04.3 LTS) / x86_64  ERROR    ERROR  skipped
Package 5/26HostnameOS / ArchINSTALLBUILDCHECKBUILD BIN
DominoEffect 1.31.0  (landing page)
Marija Buljan , Peter Blattmann
git_last_commit: 2cae082
git_last_commit_date: 2025-10-29 10:43:24 -0500
nebbiolo1Linux (Ubuntu 24.04.3 LTS) / x86_64  OK    OK    OK  NO, package depends on 'VariantAnnotation' which is not available
Package 6/26HostnameOS / ArchINSTALLBUILDCHECKBUILD BIN
enhancerHomologSearch 1.17.0  (landing page)
Jianhong Ou
git_last_commit: aec9810
git_last_commit_date: 2025-10-29 11:11:19 -0500
nebbiolo1Linux (Ubuntu 24.04.3 LTS) / x86_64  OK    OK    OK  NO, package depends on 'BSgenome' which is not available
Package 7/26HostnameOS / ArchINSTALLBUILDCHECKBUILD BIN
ggseqalign 1.5.0  (landing page)
Simeon Lim Rossmann
git_last_commit: 2aa88e4
git_last_commit_date: 2025-10-29 11:30:32 -0500
nebbiolo1Linux (Ubuntu 24.04.3 LTS) / x86_64  OK    OK    OK  UNNEEDED, same version is already published
Package 8/26HostnameOS / ArchINSTALLBUILDCHECKBUILD BIN
GUIDEseq 1.41.0  (landing page)
Lihua Julie Zhu
git_last_commit: 4a812cc
git_last_commit_date: 2025-10-29 10:28:16 -0500
nebbiolo1Linux (Ubuntu 24.04.3 LTS) / x86_64  ERROR    ERROR  skipped
Package 9/26HostnameOS / ArchINSTALLBUILDCHECKBUILD BIN
IMMAN 1.31.0  (landing page)
Minoo Ashtiani
git_last_commit: 839767a
git_last_commit_date: 2025-10-29 10:44:09 -0500
nebbiolo1Linux (Ubuntu 24.04.3 LTS) / x86_64  OK    OK    OK  UNNEEDED, same version is already published
Package 10/26HostnameOS / ArchINSTALLBUILDCHECKBUILD BIN
IsoformSwitchAnalyzeR 2.11.0  (landing page)
Kristoffer Vitting-Seerup
git_last_commit: dc055b6
git_last_commit_date: 2025-10-29 10:38:58 -0500
nebbiolo1Linux (Ubuntu 24.04.3 LTS) / x86_64  OK    OK    OK  NO, package depends on 'BSgenome' which is not available
Package 11/26HostnameOS / ArchINSTALLBUILDCHECKBUILD BIN
MethTargetedNGS 1.43.0  (landing page)
Muhammad Ahmer Jamil
git_last_commit: 53cf09a
git_last_commit_date: 2025-10-29 10:25:34 -0500
nebbiolo1Linux (Ubuntu 24.04.3 LTS) / x86_64  OK    OK    OK  UNNEEDED, same version is already published
Package 12/26HostnameOS / ArchINSTALLBUILDCHECKBUILD BIN
methylscaper 1.19.0  (landing page)
Bacher Rhonda
git_last_commit: 2426d32
git_last_commit_date: 2025-10-29 11:07:12 -0500
nebbiolo1Linux (Ubuntu 24.04.3 LTS) / x86_64  OK    OK    OK  UNNEEDED, same version is already published
Package 13/26HostnameOS / ArchINSTALLBUILDCHECKBUILD BIN
motifbreakR 2.25.0  (landing page)
Simon Gert Coetzee
git_last_commit: 21e6965
git_last_commit_date: 2025-10-29 10:27:43 -0500
nebbiolo1Linux (Ubuntu 24.04.3 LTS) / x86_64  OK    ERROR  skipped
Package 14/26HostnameOS / ArchINSTALLBUILDCHECKBUILD BIN
MSA2dist 1.15.0  (landing page)
Kristian K Ullrich
git_last_commit: 662eead
git_last_commit_date: 2025-10-29 11:14:34 -0500
nebbiolo1Linux (Ubuntu 24.04.3 LTS) / x86_64  OK    OK    OK  UNNEEDED, same version is already published
Package 15/26HostnameOS / ArchINSTALLBUILDCHECKBUILD BIN
openPrimeR 1.33.0  (landing page)
Matthias Döring
git_last_commit: 9ac7cf4
git_last_commit_date: 2025-10-29 10:40:47 -0500
nebbiolo1Linux (Ubuntu 24.04.3 LTS) / x86_64  OK    OK    OK  UNNEEDED, same version is already published
Package 16/26HostnameOS / ArchINSTALLBUILDCHECKBUILD BIN
QSutils 1.29.0  (landing page)
Mercedes Guerrero-Murillo
git_last_commit: 23b420d
git_last_commit_date: 2025-10-29 10:48:23 -0500
nebbiolo1Linux (Ubuntu 24.04.3 LTS) / x86_64  OK    OK    OK  UNNEEDED, same version is already published
Package 17/26HostnameOS / ArchINSTALLBUILDCHECKBUILD BIN
R453Plus1Toolbox 1.61.0  (landing page)
Hans-Ulrich Klein
git_last_commit: b396ba9
git_last_commit_date: 2025-10-29 10:06:02 -0500
nebbiolo1Linux (Ubuntu 24.04.3 LTS) / x86_64  OK    ERROR  skipped
Package 18/26HostnameOS / ArchINSTALLBUILDCHECKBUILD BIN
sangeranalyseR 1.21.0  (landing page)
Kuan-Hao Chao
git_last_commit: 7e0ce60
git_last_commit_date: 2025-10-29 10:59:40 -0500
nebbiolo1Linux (Ubuntu 24.04.3 LTS) / x86_64  ERROR    ERROR  skipped
Package 19/26HostnameOS / ArchINSTALLBUILDCHECKBUILD BIN
sangerseqR 1.47.0  (landing page)
Jonathon Hill
git_last_commit: fda56d9
git_last_commit_date: 2025-10-29 10:18:08 -0500
nebbiolo1Linux (Ubuntu 24.04.3 LTS) / x86_64  OK    OK    OK  UNNEEDED, same version is already published
Package 20/26HostnameOS / ArchINSTALLBUILDCHECKBUILD BIN
scanMiR 1.17.0  (landing page)
Pierre-Luc Germain
git_last_commit: 6328f02
git_last_commit_date: 2025-10-29 11:10:43 -0500
nebbiolo1Linux (Ubuntu 24.04.3 LTS) / x86_64  OK    OK    OK  UNNEEDED, same version is already published
Package 21/26HostnameOS / ArchINSTALLBUILDCHECKBUILD BIN
scifer 1.13.0  (landing page)
Rodrigo Arcoverde Cerveira
git_last_commit: 3d9c52d
git_last_commit_date: 2025-10-29 11:18:43 -0500
nebbiolo1Linux (Ubuntu 24.04.3 LTS) / x86_64  OK    OK    OK  UNNEEDED, same version is already published
Package 22/26HostnameOS / ArchINSTALLBUILDCHECKBUILD BIN
ShortRead 1.69.1  (landing page)
Bioconductor Package Maintainer
git_last_commit: c488f29
git_last_commit_date: 2025-10-31 12:50:57 -0500
nebbiolo1Linux (Ubuntu 24.04.3 LTS) / x86_64  OK    OK    WARNINGS  UNNEEDED, same version is already published
Package 23/26HostnameOS / ArchINSTALLBUILDCHECKBUILD BIN
SPLINTER 1.37.0  (landing page)
Diana Low
git_last_commit: 2ff2d3c
git_last_commit_date: 2025-10-29 10:34:37 -0500
nebbiolo1Linux (Ubuntu 24.04.3 LTS) / x86_64  OK    OK    OK  NO, package depends on 'GenomicFeatures' which is not available
Package 24/26HostnameOS / ArchINSTALLBUILDCHECKBUILD BIN
StructuralVariantAnnotation 1.27.0  (landing page)
Daniel Cameron
git_last_commit: 72cd374
git_last_commit_date: 2025-10-29 10:52:25 -0500
nebbiolo1Linux (Ubuntu 24.04.3 LTS) / x86_64  OK    OK    OK  NO, package depends on 'rtracklayer' which is not available
Package 25/26HostnameOS / ArchINSTALLBUILDCHECKBUILD BIN
svaNUMT 1.17.0  (landing page)
Ruining Dong
git_last_commit: 798135e
git_last_commit_date: 2025-10-29 11:10:38 -0500
nebbiolo1Linux (Ubuntu 24.04.3 LTS) / x86_64  OK    OK    OK  NO, package depends on 'rtracklayer' which is not available
Package 26/26HostnameOS / ArchINSTALLBUILDCHECKBUILD BIN
TFBSTools 1.49.0  (landing page)
Ge Tan
git_last_commit: d5d1319
git_last_commit_date: 2025-10-29 10:16:59 -0500
nebbiolo1Linux (Ubuntu 24.04.3 LTS) / x86_64  OK    OK    OK  NO, package depends on 'BSgenome' which is not available