Package: pvca Version: 1.51.0 Command: /home/biocbuild/bbs-3.23-bioc/R/bin/R CMD INSTALL pvca StartedAt: 2025-11-21 15:13:23 -0500 (Fri, 21 Nov 2025) EndedAt: 2025-11-21 15:13:34 -0500 (Fri, 21 Nov 2025) EllapsedTime: 10.6 seconds RetCode: 0 Status: OK