Package: pvca Version: 1.51.0 Command: /home/biocbuild/bbs-3.23-bioc/R/bin/R CMD build --keep-empty-dirs --no-resave-data pvca StartedAt: 2025-11-21 19:26:15 -0500 (Fri, 21 Nov 2025) EndedAt: 2025-11-21 19:26:36 -0500 (Fri, 21 Nov 2025) EllapsedTime: 21.0 seconds RetCode: 0 Status: OK PackageFile: pvca_1.51.0.tar.gz PackageFileSize: 218.5 KiB