Package: pvca Version: 1.49.0 Command: /Library/Frameworks/R.framework/Resources/bin/R CMD INSTALL pvca StartedAt: 2025-10-24 15:23:06 -0400 (Fri, 24 Oct 2025) EndedAt: 2025-10-24 15:23:22 -0400 (Fri, 24 Oct 2025) EllapsedTime: 16.5 seconds RetCode: 0 Status: OK