Package: pvca Version: 1.49.0 Command: rm -rf pvca.buildbin-libdir && mkdir pvca.buildbin-libdir && /Users/biocbuild/BBS/utils/build-universal.sh pvca_1.49.0.tar.gz /Library/Frameworks/R.framework/Resources/bin/R pvca.buildbin-libdir StartedAt: 2025-10-12 22:48:58 -0400 (Sun, 12 Oct 2025) EndedAt: 2025-10-12 22:49:03 -0400 (Sun, 12 Oct 2025) EllapsedTime: 5.1 seconds RetCode: 0 Status: OK PackageFile: pvca_1.49.0.tgz PackageFileSize: 225.4 KiB